BEGIN:VCALENDAR
VERSION:2.0
PRODID:-//eventon.com NONSGML v1.0//EN
CALSCALE:GREGORIAN
METHOD:PUBLISH
BEGIN:VEVENT
UID:69e76aa2717a0
DTSTAMP:20260421T121634Z
DTSTART:20200117T170000Z
DTEND:20200117T210000Z
LOCATION:
SUMMARY:Tucson G3 Gay and Lesbian Happy Hour
DESCRIPTION:Tucson G3 January 2020 The January G3 Holiday Party 5-9PM Frida
 y January 17 Gentle Bens Brewing Company 865 E University (UofA Main Gate) 
 HANG OUT WITH US We&#8217;re kicking off the New Year at Gentle Bens Brewin
 g Company! It has been three years since our last visit\,  can you believe[
 ..]\nhttps://gaytucson.com/calendar-event/tucson-g3-gay-lesbian-happy-hour/
URL:https://gaytucson.com/calendar-event/tucson-g3-gay-lesbian-happy-hour/
END:VEVENT
END:VCALENDAR