BEGIN:VCALENDAR
VERSION:2.0
PRODID:-//eventon.com NONSGML v1.0//EN
CALSCALE:GREGORIAN
METHOD:PUBLISH
BEGIN:VEVENT
UID:69e76aa237eae
DTSTAMP:20260421T121634Z
DTSTART:20190309T183000Z
DTEND:20190309T213000Z
LOCATION:Casas Adobes Congregational UCC 6801 N. Oracle Rd  Tucson\,  AZ 85704
SUMMARY:Monthly MSN Potluck & Social
DESCRIPTION:Of course don&#8217;t forget to bring your regular favorite dis
 h to share with at least 8 others along with the request Participation Fee 
 of $3.00 per person if bringing a dish OR $5.00 per person if coming empty 
 handed! There will be the regular soda venue. Start the New Year[..]\nhttps
 ://gaytucson.com/calendar-event/monthly-msn-potluck-social/
URL:https://gaytucson.com/calendar-event/monthly-msn-potluck-social/
END:VEVENT
END:VCALENDAR