BEGIN:VCALENDAR
VERSION:2.0
PRODID:-//eventon.com NONSGML v1.0//EN
CALSCALE:GREGORIAN
METHOD:PUBLISH
BEGIN:VEVENT
UID:69e789afc4fd1
DTSTAMP:20260421T142903Z
DTSTART:20210112T140000Z
DTEND:20210112T153000Z
LOCATION:Himmel Park Library 1035 N Treat Ave  Tucson\,  AZ 85716
SUMMARY:Senior Pride Speaker Series
DESCRIPTION:A wonderful group that has brought in some of Tucson’s lumina
 ries to address our community\,  the Speaker Series is a powerful way to le
 arn more about what is happening in the community from the real movers and 
 shakers in Tucson.  Request your Zoom invitation link and password by emai
 l to info@soazseniorpride.org[..]\nhttps://gaytucson.com/calendar-event/se
 nior-pride-speaker-series/
URL:https://gaytucson.com/calendar-event/senior-pride-speaker-series/
END:VEVENT
END:VCALENDAR