BEGIN:VCALENDAR
VERSION:2.0
PRODID:-//eventon.com NONSGML v1.0//EN
CALSCALE:GREGORIAN
METHOD:PUBLISH
BEGIN:VEVENT
UID:69e786186205e
DTSTAMP:20260421T141344Z
DTSTART:20190131T200000Z
DTEND:20190131T223000Z
LOCATION:Casino Del Sol 5655 W Valencia Rd  Tucson\,  AZ 85757
SUMMARY:Madonna's Immaculate Collection: The Tribute at Casino Del Sol\,  Tucson AZ
DESCRIPTION:Taking you back to the 1980’s when life was fun\,  times were
  innocent\,  and Madonna dominated pop-culture. Dance along and sing along 
 to all of the Queen of Pop&#8217;s greatest hits! We&#8217;re throwing it b
 ack to the 80&#8217;s\,  so Ladies\,  crimp your hair and tease those bangs
  high with your[..]\nhttps://gaytucson.com/calendar-event/madonnas-immacula
 te-collection-the-tribute-at-casino-del-sol-tucson-az/
URL:https://gaytucson.com/calendar-event/madonnas-immaculate-collection-the-tribute-at-casino-del-sol-tucson-az/
END:VEVENT
END:VCALENDAR