BEGIN:VCALENDAR
VERSION:2.0
PRODID:-//eventon.com NONSGML v1.0//EN
CALSCALE:GREGORIAN
METHOD:PUBLISH
BEGIN:VEVENT
UID:69e76a8c2733f
DTSTAMP:20260421T121612Z
DTSTART:20190203T170000Z
DTEND:20190203T220000Z
LOCATION:The Historic Y
SUMMARY:REV IT UP - Casino Royale Night - Reveille Men's Chorus
DESCRIPTION:Experience wonderful musicianship and stagecraft with this fant
 astic concert from Revielle Men&#8217;s Chorus!  Casino Royale Night is go
 ing to be the greatest REV IT UP yet!\nhttps://gaytucson.com/calendar-event
 /rev-it-up-casino-royale-night-reveille-mens-chorus/
URL:https://gaytucson.com/calendar-event/rev-it-up-casino-royale-night-reveille-mens-chorus/
END:VEVENT
END:VCALENDAR