BEGIN:VCALENDAR
VERSION:2.0
PRODID:-//eventon.com NONSGML v1.0//EN
CALSCALE:GREGORIAN
METHOD:PUBLISH
BEGIN:VEVENT
UID:69e7b7ff6680b
DTSTAMP:20260421T174639Z
DTSTART:20190419T170000Z
DTEND:20190419T210000Z
LOCATION:Cafe a la C&#039;art 150 N Main Ave\,  Tucson\,  AZ 85701
SUMMARY:Tucson G3 April 2019
DESCRIPTION:HANG OUT WITH US and the guys for some spring flinging —- wit
 h drinks\,  chatting\,  and some tasty goodies all in a classic Tucson sett
 ing! Cafe A La C&#8217;art Built in 1865\,  the historic Stevens House is t
 he home of Cafe a la C&#8217;art\,  the location of this month&#8217;s G3![
 ..]\nhttps://gaytucson.com/calendar-event/tucson-g3-april-2019/
URL:https://gaytucson.com/calendar-event/tucson-g3-april-2019/
END:VEVENT
END:VCALENDAR