BEGIN:VCALENDAR
VERSION:2.0
PRODID:-//eventon.com NONSGML v1.0//EN
CALSCALE:GREGORIAN
METHOD:PUBLISH
BEGIN:VEVENT
UID:69e78617e2973
DTSTAMP:20260421T141343Z
DTSTART:20190614
DTEND:20190615
LOCATION:Bisbee Royale 94 Main St\,  Bisbee\,  AZ 85603
SUMMARY:Bisbee Pride Weekend 2019
DESCRIPTION:You&#8217;re invited to the 15th annual GLBT Pride celebration 
 in Bisbee!  Complete with hilarious contests and amazing costumes.  Come 
 have a blast with us!\nhttps://gaytucson.com/calendar-event/bisbee-pride-we
 ekend-2019/
URL:https://gaytucson.com/calendar-event/bisbee-pride-weekend-2019/
END:VEVENT
END:VCALENDAR