BEGIN:VCALENDAR
VERSION:2.0
PRODID:-//eventon.com NONSGML v1.0//EN
CALSCALE:GREGORIAN
METHOD:PUBLISH
BEGIN:VEVENT
UID:69eb16fece8c4
DTSTAMP:20260424T070846Z
DTSTART:20190719T170000Z
DTEND:20190719T210000Z
LOCATION:Contigo Latin Kitchen 3770 E Sunrise Dr\,  Tucson\,  AZ 85718
SUMMARY:Tucson G3 July 2019
DESCRIPTION:The G3 Team cordially invites you to the start of the 7th yea
 r of Tucson&#8217;s most popular monthly event for the LGBT+ Community! Con
 tigo Latin Kitchen at the WESTIN La Paloma Resort is a fusion of latin-insp
 ired food and drink set in a lovely setting overlooking the golf links of t
 he La[..]\nhttps://gaytucson.com/calendar-event/tucson-g3-july-2019/
URL:https://gaytucson.com/calendar-event/tucson-g3-july-2019/
END:VEVENT
END:VCALENDAR