BEGIN:VCALENDAR
VERSION:2.0
PRODID:-//eventon.com NONSGML v1.0//EN
CALSCALE:GREGORIAN
METHOD:PUBLISH
BEGIN:VEVENT
UID:69e76a8b9f2a4
DTSTAMP:20260421T121611Z
DTSTART:20190801T173000Z
DTEND:20190801T193000Z
LOCATION:
SUMMARY:Tucson GLBT Chamber Out N About
DESCRIPTION:RSVP Link: https://tucsonglbtchamberaz.chambermaster.com/eventr
 egistration/register/6458 Big Frog Custom T Shirts and More will be hosting
  the monthly Out N About mixer.  Come by to learn more about them and to n
 etwork. Can’t wait to see you all there! -The Big Frog Team\nhttps://gayt
 ucson.com/calendar-event/out-n-about-aug-2019/
URL:https://gaytucson.com/calendar-event/out-n-about-aug-2019/
END:VEVENT
END:VCALENDAR