BEGIN:VCALENDAR
VERSION:2.0
PRODID:-//eventon.com NONSGML v1.0//EN
CALSCALE:GREGORIAN
METHOD:PUBLISH
BEGIN:VEVENT
UID:69e766d92741f
DTSTAMP:20260421T120025Z
DTSTART:20190816T170000Z
DTEND:20190816T210000Z
LOCATION:The Warehouse @ O&#039;Malley&#039;s 247 N 4th Ave\,  Tucson\,  AZ 85705
SUMMARY:August 2019 G3 at The Warehouse
DESCRIPTION:This big space with tall wood beam ceilings and an outdoor pati
 o is a great location to end up after the week to meet friends and get the 
 weekend started! O&#8217;Malley&#8217;s has a super supportive attitude and
  always give us a big warm welcome! Event Details Your first drink and[..]\
 nhttps://gaytucson.com/calendar-event/august-2019-g3-at-the-warehouse/
URL:https://gaytucson.com/calendar-event/august-2019-g3-at-the-warehouse/
END:VEVENT
END:VCALENDAR