BEGIN:VCALENDAR
VERSION:2.0
PRODID:-//eventon.com NONSGML v1.0//EN
CALSCALE:GREGORIAN
METHOD:PUBLISH
BEGIN:VEVENT
UID:69e766d8de5e1
DTSTAMP:20260421T120024Z
DTSTART:20190826T190000Z
DTEND:20190826T220000Z
LOCATION:Rincon Congregational Church Fellowship Hall 122 N Craycroft Rd  Tucson\,  AZ 85711
SUMMARY:Reveille Men's Chorus Season 25 First Rehearsal
DESCRIPTION:Rehearsals are held on Mondays from 7-10pm in the Fellowship 
 Hall at Rincon Congregational Church. We&#8217;d still love to hear from yo
 u if you are interested in joining as a singer so we can keep in touch and 
 keep you up to date.\nhttps://gaytucson.com/calendar-event/reveille-mens-ch
 orus-season-25-first-rehearsal/
URL:https://gaytucson.com/calendar-event/reveille-mens-chorus-season-25-first-rehearsal/
END:VEVENT
END:VCALENDAR