BEGIN:VCALENDAR
VERSION:2.0
PRODID:-//eventon.com NONSGML v1.0//EN
CALSCALE:GREGORIAN
METHOD:PUBLISH
BEGIN:VEVENT
UID:69e7aa3004ff6
DTSTAMP:20260421T164744Z
DTSTART:20190928T110000Z
DTEND:20190928T120000Z
LOCATION:Georges DeMeester Outdoor Performance Center at Reid Park 900 S. Randolph Way Tucson AZ 85716
SUMMARY:Tucson Pride Parade 2019
DESCRIPTION:TUCSON PRIDE PARADE 2019 PRESENTED BY INTUIT September 28th\,  
 11 AM Route: Country Club &amp; Broadway to Reid Park STONEWALL: HALF A CEN
 TURY OF PRIDE Read even more on the Tucson Pride Event Page! Download the P
 arade Information Packet here: https://tucsonpride.org/wp-content/uploads/2
 019/05/2019-Tucson-Pride-Parade-Packet.pdf Questions? Contact our Parade Co
 ordinator at parade@tucsonpride.org Parade is[..]\nhttps://gaytucson.com/ca
 lendar-event/tucson-pride-parade-2019/
URL:https://gaytucson.com/calendar-event/tucson-pride-parade-2019/
END:VEVENT
END:VCALENDAR