BEGIN:VCALENDAR
VERSION:2.0
PRODID:-//eventon.com NONSGML v1.0//EN
CALSCALE:GREGORIAN
METHOD:PUBLISH
BEGIN:VEVENT
UID:69e7aa547a405
DTSTAMP:20260421T164820Z
DTSTART:20190928T120000Z
DTEND:20190928T210000Z
LOCATION:Georges DeMeester Outdoor Performance Center at Reid Park 900 S. Randolph Way Tucson AZ 85716
SUMMARY:Tucson Pride in the Desert Festival 2019
DESCRIPTION:The 42nd Annual Tucson Pride Festival returns to Reid Park Sept
 ember 28th! Read even more on the Tucson Pride Event Page! Time &amp; Locat
 ion September 28th 2019 Parade 11:00 AM (Country Club &amp; Broadway to Rei
 d Park) Festival 12:00 PM to 9:00 PM Reid Park\,  Demeester Outdoor Perform
 ance Center\,  900[..]\nhttps://gaytucson.com/calendar-event/tucson-pride-i
 n-the-desert-festival-2019/
URL:https://gaytucson.com/calendar-event/tucson-pride-in-the-desert-festival-2019/
END:VEVENT
END:VCALENDAR