BEGIN:VCALENDAR
VERSION:2.0
PRODID:-//eventon.com NONSGML v1.0//EN
CALSCALE:GREGORIAN
METHOD:PUBLISH
BEGIN:VEVENT
UID:69eb3150f349a
DTSTAMP:20260424T090104Z
DTSTART:20190920T170000Z
DTEND:20190920T220000Z
LOCATION:St Phillips Plaza 4280 N Campbell Ave
SUMMARY:Tucson Pride Official Kickoff
DESCRIPTION:Tucson Pride Official Kickoff The September G3 Gay Happy Hour T
 ucson Pride Official Kickoff. 5-10pm Friday September 20 St Phillips Plaza 
 (River and Campbell) Admission just $3 First drink $6 Pay both with cash or
  credit at the entrance (between Reforma and Union). Please have ID. Under 
 21 free. Everyone[..]\nhttps://gaytucson.com/calendar-event/tucson-pride-of
 ficial-kickoff/
URL:https://gaytucson.com/calendar-event/tucson-pride-official-kickoff/
END:VEVENT
END:VCALENDAR