BEGIN:VCALENDAR
VERSION:2.0
PRODID:-//eventon.com NONSGML v1.0//EN
CALSCALE:GREGORIAN
METHOD:PUBLISH
BEGIN:VEVENT
UID:69e7b7ff2af19
DTSTAMP:20260421T174639Z
DTSTART:20191102T190000Z
DTEND:20191102T210000Z
LOCATION:Grace St. Paul&#039;s Episcopal Church 2331 E Adams St
SUMMARY:Helios Ensemble Presents Rachmaninoff's Vespers and Other Russian Favorites
DESCRIPTION:You&#8217;re invited to an amazing performance from the Helios 
 Ensemble with the Tucson Girl&#8217;s Chorus.  They will be singing Rachma
 ninoff&#8217;s Vespers and other Russian favorites\,  including a World Pre
 mier of &#8220;For You&#8221; by Sam Sierra-Feldman. The show begins at 7pm
  sharp on Saturday\,  November 2nd in the Grace St. Paul&#8217;s[..]\nhttps
 ://gaytucson.com/calendar-event/helios-ensemble-presents-rachmaninoffs-vesp
 ers-and-other-russian-favorites/
URL:https://gaytucson.com/calendar-event/helios-ensemble-presents-rachmaninoffs-vespers-and-other-russian-favorites/
END:VEVENT
END:VCALENDAR