BEGIN:VCALENDAR
VERSION:2.0
PRODID:-//eventon.com NONSGML v1.0//EN
CALSCALE:GREGORIAN
METHOD:PUBLISH
BEGIN:VEVENT
UID:69e7aa7b24976
DTSTAMP:20260421T164859Z
DTSTART:20191123T190000Z
DTEND:20191123T190000Z
LOCATION:Catalina United Methodist Church 2700 E Speedway Blvd Tucson\,  AZ 85716
SUMMARY:The Helios Ensemble Presents Carmina Burana
DESCRIPTION:The Helios Ensemble presents the stirring choral masterpiece Ca
 rmina Burana\,  with the Southern Arizona Symphony Orchestra.  See it live
 !  Saturday\,  November 23 at 7 pm at Catalina United Methodist Church\,  
 2700 E Speedway Tucson.  Tickets $20 at the door or online at heliosensem
 ble.org\nhttps://gaytucson.com/calendar-event/the-helios-ensemble-presents-
 carmina-burana/
URL:https://gaytucson.com/calendar-event/the-helios-ensemble-presents-carmina-burana/
END:VEVENT
END:VCALENDAR