BEGIN:VCALENDAR
VERSION:2.0
PRODID:-//eventon.com NONSGML v1.0//EN
CALSCALE:GREGORIAN
METHOD:PUBLISH
BEGIN:VEVENT
UID:69e76ac6d219a
DTSTAMP:20260421T121710Z
DTSTART:20191129T170000Z
DTEND:20191129T210000Z
LOCATION:The Downtown Clifton Hotel 485 S Stone Ave\,  Tucson\,  AZ 85701
SUMMARY:G3 Day After Thanksgiving Happy Hour
DESCRIPTION:With the holiday season upon us we are excited to be having a s
 pecial Thanksgiving Weekend G3 Happy Hour at Tucson&#8217;s newest boutique
  hotel\,  The Downtown Clifton! Hang Out With Us at this hip 70&#8217;s re
 tro-vibe hotel nestled between 5-Points and Armory Park for one of their ve
 ry first events! Don[..]\nhttps://gaytucson.com/calendar-event/g3-day-after
 -thanksgiving-happy-hour/
URL:https://gaytucson.com/calendar-event/g3-day-after-thanksgiving-happy-hour/
END:VEVENT
END:VCALENDAR