BEGIN:VCALENDAR
VERSION:2.0
PRODID:-//eventon.com NONSGML v1.0//EN
CALSCALE:GREGORIAN
METHOD:PUBLISH
BEGIN:VEVENT
UID:69e76ae5aad9a
DTSTAMP:20260421T121741Z
DTSTART:20191220T170000Z
DTEND:20191220T210000Z
LOCATION:The BackDoor
SUMMARY:FRUITCAKE The Annual G3 Holiday Party
DESCRIPTION:The BackDoor Tucson’s New Gay Club Experience (coming in 2020
 ) You are cordially invited to Hang Out With Us and celebrate the season at
  our annual holiday extravaganza\,  “Fruitcake!” This year we are creat
 ing a winter wonderland of lights and trees and big inflatable toys at Tucs
 on’s soon-to-open new gay[..]\nhttps://gaytucson.com/calendar-event/fruit
 cake-the-annual-g3-holiday-party/
URL:https://gaytucson.com/calendar-event/fruitcake-the-annual-g3-holiday-party/
END:VEVENT
END:VCALENDAR