BEGIN:VCALENDAR
VERSION:2.0
PRODID:-//eventon.com NONSGML v1.0//EN
CALSCALE:GREGORIAN
METHOD:PUBLISH
BEGIN:VEVENT
UID:69e786178e2f2
DTSTAMP:20260421T141343Z
DTSTART:20191231T210000Z
DTEND:20200101T020000Z
LOCATION:191 Toole 191 E Toole Tucson AZ 85701
SUMMARY:REVEAL YOUR KINK 2020
DESCRIPTION:Fluxx Productions Presents Reveal Your Kink 2020 NYE QUEER DANC
 E PARTY Featuring : 5 DJs Kinky Photobooth Fuego-go Dancers Midnight Toast\
 nhttps://gaytucson.com/calendar-event/reveal-your-kink-2020/
URL:https://gaytucson.com/calendar-event/reveal-your-kink-2020/
END:VEVENT
END:VCALENDAR