BEGIN:VCALENDAR
VERSION:2.0
PRODID:-//eventon.com NONSGML v1.0//EN
CALSCALE:GREGORIAN
METHOD:PUBLISH
BEGIN:VEVENT
UID:69e766d962458
DTSTAMP:20260421T120025Z
DTSTART:20200109T173000Z
DTEND:20200109T193000Z
LOCATION:
SUMMARY:January 2020 LGBT Chamber Out N About
DESCRIPTION:The first LGBT Chamber Out and About of THE NEW DECADE will be 
 co-hosted by Stephanie Kidder of Empower Financial Group and Anna and Scott
  Griessel of Creatista. We want to kick off 2020 with an amazing event full
  of fun\,  food\,  and festivities! There will be Mexican food\,  drinks\, 
 [..]\nhttps://gaytucson.com/calendar-event/january-2020-lgbt-chamber-out-n-
 about/
URL:https://gaytucson.com/calendar-event/january-2020-lgbt-chamber-out-n-about/
END:VEVENT
END:VCALENDAR