BEGIN:VCALENDAR
VERSION:2.0
PRODID:-//eventon.com NONSGML v1.0//EN
CALSCALE:GREGORIAN
METHOD:PUBLISH
BEGIN:VEVENT
UID:69e76ae66e3df
DTSTAMP:20260421T121742Z
DTSTART:20200229T103000Z
DTEND:20200229T130000Z
LOCATION:Tucson Marriott University Park Hotel 880 E 2nd St\,  Tucson\,  AZ 85719
SUMMARY:Out Brunch 2020
DESCRIPTION:Announcing your Out Brunch winners of the Godat\,  Steve Hall\,
   and Dr. Jean Baker Community Ally awards of 2020! Erin Russ Godat Award R
 ecipient The Godat Award was inaugurated in 1998 to recognize extraordinary
  long-term contributions by an individual to Southern Arizona&#8217;s LGBTQ
  community. Curt Beal Steve Hall Award Recipient[..]\nhttps://gaytucson.com
 /calendar-event/out-brunch-2020/
URL:https://gaytucson.com/calendar-event/out-brunch-2020/
END:VEVENT
END:VCALENDAR