BEGIN:VCALENDAR
VERSION:2.0
PRODID:-//eventon.com NONSGML v1.0//EN
CALSCALE:GREGORIAN
METHOD:PUBLISH
BEGIN:VEVENT
UID:69e766d8ad29c
DTSTAMP:20260421T120024Z
DTSTART:20200206T173000Z
DTEND:20200206T193000Z
LOCATION:Caritas Healing Center 330 E 16th St\,  Tucson\,  AZ 85701
SUMMARY:Tucson LGBT Chamber Monthly Out N About\,  Feb. 2020
DESCRIPTION:Caritas\,  a healing center founded on love (which is what Cari
 tas means in Latin)\,  is hosting its first ever Out and About and looks fo
 rward to meeting you on Thursday\,  February 6\,  2020 5:30 – 7:30 PM at 
 330 E. 16th Street. RSVP    https://tucsonglbtchamberaz.chambermaster.co
 m/eventregistration/register/6741 While mixing with other LGBT chamber[..]\
 nhttps://gaytucson.com/calendar-event/tucson-lgbt-chamber-monthly-out-n-abo
 ut-feb-2020/
URL:https://gaytucson.com/calendar-event/tucson-lgbt-chamber-monthly-out-n-about-feb-2020/
END:VEVENT
END:VCALENDAR