BEGIN:VCALENDAR
VERSION:2.0
PRODID:-//eventon.com NONSGML v1.0//EN
CALSCALE:GREGORIAN
METHOD:PUBLISH
BEGIN:VEVENT
UID:69ebb9f0c0e5a
DTSTAMP:20260424T184400Z
DTSTART:20210512T193000Z
DTEND:20210512T210000Z
LOCATION:AA Central Office  840 S Campbell Ave\,  Tucson\,  AZ 85719
SUMMARY:Wednesday Night Candlelight Meeting of Alcoholics Anonymous
DESCRIPTION:Location:     840 S Campbell Ave\,  Tucson\,  AZ 85719   
 AA Central Office.            Time:              7:3
 0pm – 9:00pm  1.5hr meeting Meeting Type:  Open  LGBTQ but all are wel
 come…\nhttps://gaytucson.com/calendar-event/wednesday-night-candlelight-m
 eeting-of-alcoholics-anonymous/
URL:https://gaytucson.com/calendar-event/wednesday-night-candlelight-meeting-of-alcoholics-anonymous/
END:VEVENT
END:VCALENDAR