BEGIN:VCALENDAR
VERSION:2.0
PRODID:-//eventon.com NONSGML v1.0//EN
CALSCALE:GREGORIAN
METHOD:PUBLISH
BEGIN:VEVENT
UID:69eb15401aa86
DTSTAMP:20260424T070120Z
DTSTART:20210609T180000Z
DTEND:20210609T200000Z
LOCATION:Armory Park Downtown Tucson 221 S 5th Ave\,  Tucson\,  AZ 85701
SUMMARY:Tucson Yoga Jam in the Park
DESCRIPTION:Tucson Yoga Jam host&#8217;s festival-style\,  DJ&#8217;d yoga 
 classes to support\,  build\,  and connect community. Donations appreciated
 . Look us up on FB\,  IG &amp; Snap @TucsonYogaJam Cost: Free Yoga Jam in t
 he Park with Kyndle Fire! We are motivated to build and grow our health and
  community together.  Please join us[..]\nhttps://gaytucson.com/calendar-e
 vent/tucson-yoga-jam-in-the-park/
URL:https://gaytucson.com/calendar-event/tucson-yoga-jam-in-the-park/
END:VEVENT
END:VCALENDAR