BEGIN:VCALENDAR
VERSION:2.0
PRODID:-//eventon.com NONSGML v1.0//EN
CALSCALE:GREGORIAN
METHOD:PUBLISH
BEGIN:VEVENT
UID:69eb21662ce54
DTSTAMP:20260424T075310Z
DTSTART:20200917T080000Z
DTEND:20200917T093000Z
LOCATION:
SUMMARY:Tucson LGBT Chamber of Commerce September (Virtual) Breakfast
DESCRIPTION:Thursday\,  September 17th 8:00 AM &#8211; 9:30 AM Online (regi
 ster for link)  Join us for a dynamic online version of our monthly breakf
 ast&#8211;small group networking sessions\,  giveaways\,  opportunities to 
 share your needs and leads\,  a talk with Mindy Blake about Tucson&#8217;s 
 transportation future\,  and more! Transportation affects all of us.[..]\nh
 ttps://gaytucson.com/calendar-event/tucson-lgbt-chamber-of-commerce-septemb
 er-virtual-breakfast/
URL:https://gaytucson.com/calendar-event/tucson-lgbt-chamber-of-commerce-september-virtual-breakfast/
END:VEVENT
END:VCALENDAR