BEGIN:VCALENDAR
VERSION:2.0
PRODID:-//eventon.com NONSGML v1.0//EN
CALSCALE:GREGORIAN
METHOD:PUBLISH
BEGIN:VEVENT
UID:69e7d54fdbc17
DTSTAMP:20260421T195143Z
DTSTART:20201012T080000Z
DTEND:20201025T200000Z
LOCATION:
SUMMARY:Desperado 2020 LGBTQ Film Festival
DESCRIPTION:Desperado 2020 LGBTQ Film Festival will stream online October 1
 2th – 25th. PHOENIX — (9/15/2020) — The Desperado LGBTQ+ Film Festiva
 l is taking our October festival virtual. Desperado will be moving to a str
 eaming platform to maintain connection and share the profound joys that LGB
 TQ film delivers. For those of[..]\nhttps://gaytucson.com/calendar-event/de
 sperado-2020-lgbtq-film-festival/
URL:https://gaytucson.com/calendar-event/desperado-2020-lgbtq-film-festival/
END:VEVENT
END:VCALENDAR