BEGIN:VCALENDAR
VERSION:2.0
PRODID:-//eventon.com NONSGML v1.0//EN
CALSCALE:GREGORIAN
METHOD:PUBLISH
BEGIN:VEVENT
UID:69e7f5883918e
DTSTAMP:20260421T220912Z
DTSTART:20201013T140000Z
DTEND:20201013T160000Z
LOCATION:
SUMMARY:5 Takeaways from the Arizona LGBTQ COVID-19 Survey Presented by Sally Dodds and Beth Meyerson
DESCRIPTION:Quickly recognizing unique threats the coronavirus may hold for
  older LGBTQI+ adults\,  Tucson research scientists Beth Meyerson and Sally
  Dodds sprang into action early in the pandemic to administer a survey of C
 OVID risks and impacts for our community&#8211;perhaps the first such study
  ever conducted. Funded by the Southwest Institute[..]\nhttps://gaytucson.c
 om/calendar-event/5-takeaways-from-the-arizona-lgbtq-covid-19-survey-presen
 ted-by-sally-dodds-and-beth-meyerson/
URL:https://gaytucson.com/calendar-event/5-takeaways-from-the-arizona-lgbtq-covid-19-survey-presented-by-sally-dodds-and-beth-meyerson/
END:VEVENT
END:VCALENDAR