BEGIN:VCALENDAR
VERSION:2.0
PRODID:-//eventon.com NONSGML v1.0//EN
CALSCALE:GREGORIAN
METHOD:PUBLISH
BEGIN:VEVENT
UID:69e76aa1ebc7f
DTSTAMP:20260421T121633Z
DTSTART:20201218T190000Z
DTEND:20201218T210000Z
LOCATION:
SUMMARY:Reveille Men's Chorus presents BEAU WITH A BOW
DESCRIPTION:Who needs Santa when we have Cupid? Zoom dating A violin bow A 
 superhero A family separated These stories intersect in our winter choral m
 usical. Holidays are seasons for hope A moment of miracles And finding the 
 gift within If you just believe. Beau With A Bow premieres Dec 18[..]\nhttp
 s://gaytucson.com/calendar-event/reveille-mens-chorus-presents-beau-with-a-
 bow/
URL:https://gaytucson.com/calendar-event/reveille-mens-chorus-presents-beau-with-a-bow/
END:VEVENT
END:VCALENDAR