BEGIN:VCALENDAR
VERSION:2.0
PRODID:-//eventon.com NONSGML v1.0//EN
CALSCALE:GREGORIAN
METHOD:PUBLISH
BEGIN:VEVENT
UID:69e789b084138
DTSTAMP:20260421T142904Z
DTSTART:20210111T183000Z
DTEND:20210111T210000Z
LOCATION:
SUMMARY:Reveille Men's Chorus Spring 2021 Voicings and Open Rehearsal
DESCRIPTION:Do you have choral background? Have you performed as a singer i
 n the past? Always wanted to start singing or get back to the joy you once 
 experienced with a performing group? Reveille wants YOU! Each person appl
 ying for Performing Membership (a singer) meets with the director and/or a
 ssistant director for voicing (where[..]\nhttps://gaytucson.com/calendar-ev
 ent/reveille-mens-chorus-spring-2021-voicings-and-open-rehearsal/
URL:https://gaytucson.com/calendar-event/reveille-mens-chorus-spring-2021-voicings-and-open-rehearsal/
END:VEVENT
END:VCALENDAR