BEGIN:VCALENDAR
VERSION:2.0
PRODID:-//eventon.com NONSGML v1.0//EN
CALSCALE:GREGORIAN
METHOD:PUBLISH
BEGIN:VEVENT
UID:69eb0974d0fc8
DTSTAMP:20260424T061100Z
DTSTART:20230106T190000Z
DTEND:20230106T210000Z
LOCATION:Mercado District 125 South Avenida Del Convento\,  AZ
SUMMARY:Zoppé Family Circus
DESCRIPTION:The Zoppé Family Circus Returns to Mercado District! *Last wee
 k to purchase early bird tickets (ends Dec. 31st)!*   For the twelfth year
  in a row\,  the legendary\,  old world Zoppé Family Circus returns to Tuc
 son\,  setting up their Big Top tent in the parking lot on the corner of[..
 ]\nhttps://gaytucson.com/calendar-event/zoppe-family-circus/
URL:https://gaytucson.com/calendar-event/zoppe-family-circus/
END:VEVENT
END:VCALENDAR