BEGIN:VCALENDAR
VERSION:2.0
PRODID:-//eventon.com NONSGML v1.0//EN
CALSCALE:GREGORIAN
METHOD:PUBLISH
BEGIN:VEVENT
UID:69eb6e17233b0
DTSTAMP:20260424T132023Z
DTSTART:20230212T150000Z
DTEND:20230213T010000Z
LOCATION:
SUMMARY:Reveille Valentine's fundraising event: Singing Valentine-Grams
DESCRIPTION:Send the gift of song this Valentine&#8217;s Day and make someo
 ne&#8217;s day extra special with Singing Valentine-Grams from Reveille Men
 ’s Chorus. Your loved one/s will receive a personalized singing performan
 ce over the phone from Reveille &#8211; LIVE! And if your recipients aren&#
 8217;t home\,  we&#8217;ll leave them a voice-mail they can[..]\nhttps://ga
 ytucson.com/calendar-event/reveille-valentines-fundraising-event-singing-va
 lentine-grams/
URL:https://gaytucson.com/calendar-event/reveille-valentines-fundraising-event-singing-valentine-grams/
END:VEVENT
END:VCALENDAR