BEGIN:VCALENDAR
VERSION:2.0
PRODID:-//eventon.com NONSGML v1.0//EN
CALSCALE:GREGORIAN
METHOD:PUBLISH
BEGIN:VEVENT
UID:69ed0be50a8b8
DTSTAMP:20260425T184557Z
DTSTART:20230528T020000Z
DTEND:20230528T040000Z
LOCATION:The Screening Room 127 E. Congress St  Tucson\,  AZ 85701
SUMMARY:Dan Savage's 18th Annual HUMP! Film Festival
DESCRIPTION:Featuring 22 All-New Films! HUMP! Is a lovingly curated festiva
 l of short erotic films made by real people for real people. The filmmakers
  and stars show us hot and sexy\,  creative and kinky\,  ultimate turn-ons 
 and craziest fantasies. Our program is a cornucopia of body types\,  shapes
 \,  ages\,  colors\,  sexualities\, [..]\nhttps://gaytucson.com/calendar-ev
 ent/dan-savages-18th-annual-hump-film-festival/
URL:https://gaytucson.com/calendar-event/dan-savages-18th-annual-hump-film-festival/
END:VEVENT
END:VCALENDAR