BEGIN:VCALENDAR
VERSION:2.0
PRODID:-//eventon.com NONSGML v1.0//EN
CALSCALE:GREGORIAN
METHOD:PUBLISH
BEGIN:VEVENT
UID:69ecd18aa0a15
DTSTAMP:20260425T143658Z
DTSTART:20230930T023000Z
DTEND:20230930T040000Z
LOCATION:
SUMMARY:Tucson Pride Parade 2023 Sponsored by SAAF
DESCRIPTION:🎉 Join the Jubilation at the 2023 Tucson Pride Parade! Hoste
 d with love by SAAF\,  this vibrant spectacle is set to flood the heart of 
 Tucson with waves of color\,  joy\,  and acceptance on Friday\,  September 
 29\,  2023\,  starting at 7:30 PM. Let’s unite to embrace diversity and l
 ove in[..]\nhttps://gaytucson.com/calendar-event/tucson-pride-parade-2023-s
 ponsored-by-saaf/
URL:https://gaytucson.com/calendar-event/tucson-pride-parade-2023-sponsored-by-saaf/
END:VEVENT
END:VCALENDAR