BEGIN:VCALENDAR
VERSION:2.0
PRODID:-//eventon.com NONSGML v1.0//EN
CALSCALE:GREGORIAN
METHOD:PUBLISH
BEGIN:VEVENT
UID:69eca57db93db
DTSTAMP:20260425T112901Z
DTSTART:20231223T040000Z
DTEND:20231223T090000Z
LOCATION:Playground Bar and Lounge 278 E Congress St\,  Tucson\,  AZ 85701
SUMMARY:G3 Holiday Party: "Fruitcake" at Playground
DESCRIPTION:Get ready to jingle and mingle at the G3 Gay Happy Hour&#8217;s
  &#8220;Fruitcake&#8221; Holiday Party! This special celebration is schedul
 ed for a festive Friday night\,  December 22\,  from 5:00 PM to 10:00 PM. J
 oin us at Playground\,  located in the heart of Downtown Tucson at 278 E Co
 ngress\,  where G3[..]\nhttps://gaytucson.com/calendar-event/g3-holiday-par
 ty-fruitcake-at-playground/
URL:https://gaytucson.com/calendar-event/g3-holiday-party-fruitcake-at-playground/
END:VEVENT
END:VCALENDAR