BEGIN:VCALENDAR
VERSION:2.0
PRODID:-//eventon.com NONSGML v1.0//EN
CALSCALE:GREGORIAN
METHOD:PUBLISH
BEGIN:VEVENT
UID:69eaefa714612
DTSTAMP:20260424T042055Z
DTSTART:20250412
DTEND:20250413
LOCATION:
SUMMARY:Day of (No) Silence
DESCRIPTION:Join us in observing the Day of (No) Silence on April 12. This 
 impactful day is dedicated to raising awareness about the silencing effects
  of anti-LGBTQ+ bullying and harassment in schools. It serves as a powerful
  reminder of the need for inclusive and supportive environments for all stu
 dents. What is[..]\nhttps://gaytucson.com/calendar-event/day-of-no-silence/
URL:https://gaytucson.com/calendar-event/day-of-no-silence/
END:VEVENT
END:VCALENDAR