BEGIN:VCALENDAR
VERSION:2.0
PRODID:-//eventon.com NONSGML v1.0//EN
CALSCALE:GREGORIAN
METHOD:PUBLISH
BEGIN:VEVENT
UID:69e73b1a50dca
DTSTAMP:20260421T085346Z
DTSTART:20240927T230000Z
DTEND:20240928T040000Z
LOCATION:Armory Park Downtown Tucson 221 S 5th Ave\,  Tucson\,  AZ 85701
SUMMARY:Tucson Pride Parade 2024
DESCRIPTION:Get ready for an unforgettable evening as Tucson Pride brings t
 he streets to life with the vibrant Tucson Pride Parade 2024! This year&#82
 17;s parade is extra special\,  partnering with AIDSWALK Tucson to create a
  unified celebration of love\,  diversity\,  and community. Starting at 4:0
 0 PM\,  the festivities kick off with[..]\nhttps://gaytucson.com/calendar-e
 vent/tucson-pride-parade-2024/
URL:https://gaytucson.com/calendar-event/tucson-pride-parade-2024/
END:VEVENT
END:VCALENDAR