BEGIN:VCALENDAR
VERSION:2.0
PRODID:-//eventon.com NONSGML v1.0//EN
CALSCALE:GREGORIAN
METHOD:PUBLISH
BEGIN:VEVENT
UID:69e72e9adb8c0
DTSTAMP:20260421T080026Z
DTSTART:20240928T190000Z
DTEND:20240929T050000Z
LOCATION:Georges DeMeester Outdoor Performance Center at Reid Park 900 S. Randolph Way Tucson AZ 85716
SUMMARY:Tucson Pride Festival 2024
DESCRIPTION:Celebrate love\,  diversity\,  and community at the Tucson Prid
 e Festival 2024! Taking place at the iconic Reid Park\,  this all-day festi
 val is the heart of Tucson’s annual Pride celebrations\,  bringing togeth
 er the LGBTQIA+ community and allies for a day of unforgettable fun. Starti
 ng at noon\,  the festival offers something for[..]\nhttps://gaytucson.com/
 calendar-event/tucson-pride-festival-2024/
URL:https://gaytucson.com/calendar-event/tucson-pride-festival-2024/
END:VEVENT
END:VCALENDAR