BEGIN:VCALENDAR
VERSION:2.0
PRODID:-//eventon.com NONSGML v1.0//EN
CALSCALE:GREGORIAN
METHOD:PUBLISH
BEGIN:VEVENT
UID:69e74abc3be8f
DTSTAMP:20260421T100028Z
DTSTART:20240921T000000Z
DTEND:20240921T050000Z
LOCATION:Playground Bar and Lounge 278 E Congress St\,  Tucson\,  AZ 85701
SUMMARY:G3 Pride Kickoff Party
DESCRIPTION:Kick off Tucson Pride Week 2024 in style with the G3 Pride Part
 y! This popular monthly LGBTQ+ event takes over the SkyDeck at Playground\,
   one of Tucson&#8217;s most exciting venues\,  for an unforgettable night 
 of fun. The party starts with a chill vibe and classic tunes perfect for so
 cializing\,  then[..]\nhttps://gaytucson.com/calendar-event/g3-pride-kickof
 f-party/
URL:https://gaytucson.com/calendar-event/g3-pride-kickoff-party/
END:VEVENT
END:VCALENDAR