BEGIN:VCALENDAR
VERSION:2.0
PRODID:-//eventon.com NONSGML v1.0//EN
CALSCALE:GREGORIAN
METHOD:PUBLISH
BEGIN:VEVENT
UID:69e75b8954b20
DTSTAMP:20260421T111209Z
DTSTART:20250928T020000Z
DTEND:20250928T040000Z
LOCATION:The Fox Theater 17 W Congress St
SUMMARY:Travel Daddyz Present: Tina Burner’s WITCH PERFECT
DESCRIPTION:A Spellbinding Live-Singing Drag Parody of Hocus Pocus Takes Fl
 ight in 2025! Travel Daddyz and Tina Burner are proud to present the return
  of Witch Perfect\,  the wildly popular live-singing\,  comedic drag parod
 y of Disney&#8217;s beloved &#8220;Hocus Pocus&#8221;! Starring three RuPau
 l&#8217;s Drag Race All Stars — Tina Burner\,  Scarlet Envy\,  and Ale
 xis Michelle — this[..]\nhttps://gaytucson.com/calendar-event/travel-dad
 dyz-present-tina-burners-witch-perfect/
URL:https://gaytucson.com/calendar-event/travel-daddyz-present-tina-burners-witch-perfect/
END:VEVENT
END:VCALENDAR