BEGIN:VCALENDAR
VERSION:2.0
PRODID:-//eventon.com NONSGML v1.0//EN
CALSCALE:GREGORIAN
METHOD:PUBLISH
BEGIN:VEVENT
UID:69e759b724ee5
DTSTAMP:20260421T110423Z
DTSTART:20260321T190000Z
DTEND:20260322T210000Z
LOCATION:St. Francis in the Foothills 4625 E. River Road
SUMMARY:Senior Pride Potluck
DESCRIPTION:Everyone Welcome!&nbsp;We desire to include all of the incredib
 le diversity within our community.&nbsp;We are so excited to bring all of u
 s together again for a meal and visit. Bring a dish to share. Please make a
  note of all ingredients to accompany your dish. IMPORTANT NOTE:&nbsp;While
  our potlucks normally take[..]\nhttps://gaytucson.com/calendar-event/senio
 r-pride-potluck-4/
URL:https://gaytucson.com/calendar-event/senior-pride-potluck-4/
END:VEVENT
END:VCALENDAR