BEGIN:VCALENDAR
VERSION:2.0
PRODID:-//eventon.com NONSGML v1.0//EN
CALSCALE:GREGORIAN
METHOD:PUBLISH
BEGIN:VEVENT
UID:69ed18411ba16
DTSTAMP:20260425T193841Z
DTSTART:20260321T170000Z
DTEND:20260321T183000Z
LOCATION:Himmel Park 1000 N Tucson Blvd\,  Tucson\,  AZ 85716
SUMMARY:Gathering in Himmel Park
DESCRIPTION:LGBTQI+ adults ages 55+ are invited to get together with us on 
 the third Saturday of every month at Himmel Park to chat with friends in th
 e beautiful outdoors. Won’t you stop by and join us? Bring a chair and yo
 ur favorite morning snack and beverage! Gathering in Himmel Park\nhttps://g
 aytucson.com/calendar-event/gathering-in-himmel-park-2/
URL:https://gaytucson.com/calendar-event/gathering-in-himmel-park-2/
END:VEVENT
END:VCALENDAR